BEGIN:VCALENDAR
VERSION:2.0
PRODID:https://www.kufer.de/kuferweb / DE
METHOD:PUBLISH
CALSCALE:GREGORIAN
X-WR-TIMEZONE:Europe/Berlin
BEGIN:VTIMEZONE
TZID:Europe/Berlin
X-LIC-LOCATION:Europe/Berlin
BEGIN:DAYLIGHT
TZOFFSETFROM:+0100
TZOFFSETTO:+0200
TZNAME:CEST
DTSTART:19700329T020000
RRULE:FREQ=YEARLY;INTERVAL=1;BYDAY=-1SU;BYMONTH=3
END:DAYLIGHT
BEGIN:STANDARD
TZOFFSETFROM:+0200
TZOFFSETTO:+0100
TZNAME:CET
DTSTART:19701025T030000
RRULE:FREQ=YEARLY;INTERVAL=1;BYDAY=-1SU;BYMONTH=10
END:STANDARD
END:VTIMEZONE
BEGIN:VEVENT
DTSTAMP:20260423T200128
DTSTART;TZID=Europe/Berlin:20260527T181500
DTEND;TZID=Europe/Berlin:20260527T194500
UID:H475193-D-20260527T181500@VHSDÜSSELDORF
SUMMARY:(Online-Kurs) Englisch A1.3 (H475193-D) 
LOCATION:Online
END:VEVENT
BEGIN:VEVENT
DTSTAMP:20260423T200128
DTSTART;TZID=Europe/Berlin:20260603T181500
DTEND;TZID=Europe/Berlin:20260603T194500
UID:H475193-D-20260603T181500@VHSDÜSSELDORF
SUMMARY:(Online-Kurs) Englisch A1.3 (H475193-D) 
LOCATION:Online
END:VEVENT
BEGIN:VEVENT
DTSTAMP:20260423T200128
DTSTART;TZID=Europe/Berlin:20260610T181500
DTEND;TZID=Europe/Berlin:20260610T194500
UID:H475193-D-20260610T181500@VHSDÜSSELDORF
SUMMARY:(Online-Kurs) Englisch A1.3 (H475193-D) 
LOCATION:Online
END:VEVENT
BEGIN:VEVENT
DTSTAMP:20260423T200128
DTSTART;TZID=Europe/Berlin:20260617T181500
DTEND;TZID=Europe/Berlin:20260617T194500
UID:H475193-D-20260617T181500@VHSDÜSSELDORF
SUMMARY:(Online-Kurs) Englisch A1.3 (H475193-D) 
LOCATION:Online
END:VEVENT
BEGIN:VEVENT
DTSTAMP:20260423T200128
DTSTART;TZID=Europe/Berlin:20260624T181500
DTEND;TZID=Europe/Berlin:20260624T194500
UID:H475193-D-20260624T181500@VHSDÜSSELDORF
SUMMARY:(Online-Kurs) Englisch A1.3 (H475193-D) 
LOCATION:Online
END:VEVENT
BEGIN:VEVENT
DTSTAMP:20260423T200128
DTSTART;TZID=Europe/Berlin:20260701T181500
DTEND;TZID=Europe/Berlin:20260701T194500
UID:H475193-D-20260701T181500@VHSDÜSSELDORF
SUMMARY:(Online-Kurs) Englisch A1.3 (H475193-D) 
LOCATION:Online
END:VEVENT
END:VCALENDAR