BEGIN:VCALENDAR
VERSION:2.0
PRODID:https://www.kufer.de/kuferweb / DE
METHOD:PUBLISH
CALSCALE:GREGORIAN
X-WR-TIMEZONE:Europe/Berlin
BEGIN:VTIMEZONE
TZID:Europe/Berlin
X-LIC-LOCATION:Europe/Berlin
BEGIN:DAYLIGHT
TZOFFSETFROM:+0100
TZOFFSETTO:+0200
TZNAME:CEST
DTSTART:19700329T020000
RRULE:FREQ=YEARLY;INTERVAL=1;BYDAY=-1SU;BYMONTH=3
END:DAYLIGHT
BEGIN:STANDARD
TZOFFSETFROM:+0200
TZOFFSETTO:+0100
TZNAME:CET
DTSTART:19701025T030000
RRULE:FREQ=YEARLY;INTERVAL=1;BYDAY=-1SU;BYMONTH=10
END:STANDARD
END:VTIMEZONE
BEGIN:VEVENT
DTSTAMP:20260424T191207
DTSTART;TZID=Europe/Berlin:20250917T180000
DTEND;TZID=Europe/Berlin:20250917T190000
UID:G814130-20250917T180000@VHSDÜSSELDORF
SUMMARY:NEU! Yoga (G814130) 
LOCATION:Stadtsportbund, Suitbertusstr. 15, Bilk, Gymnastikhalle, Suitbertusstraße 15, 40223 Düsseldorf-Bilk
END:VEVENT
BEGIN:VEVENT
DTSTAMP:20260424T191207
DTSTART;TZID=Europe/Berlin:20250924T180000
DTEND;TZID=Europe/Berlin:20250924T190000
UID:G814130-20250924T180000@VHSDÜSSELDORF
SUMMARY:NEU! Yoga (G814130) 
LOCATION:Stadtsportbund, Suitbertusstr. 15, Bilk, Gymnastikhalle, Suitbertusstraße 15, 40223 Düsseldorf-Bilk
END:VEVENT
BEGIN:VEVENT
DTSTAMP:20260424T191207
DTSTART;TZID=Europe/Berlin:20251001T180000
DTEND;TZID=Europe/Berlin:20251001T190000
UID:G814130-20251001T180000@VHSDÜSSELDORF
SUMMARY:NEU! Yoga (G814130) 
LOCATION:Stadtsportbund, Suitbertusstr. 15, Bilk, Gymnastikhalle, Suitbertusstraße 15, 40223 Düsseldorf-Bilk
END:VEVENT
BEGIN:VEVENT
DTSTAMP:20260424T191207
DTSTART;TZID=Europe/Berlin:20251008T180000
DTEND;TZID=Europe/Berlin:20251008T190000
UID:G814130-20251008T180000@VHSDÜSSELDORF
SUMMARY:NEU! Yoga (G814130) 
LOCATION:Stadtsportbund, Suitbertusstr. 15, Bilk, Gymnastikhalle, Suitbertusstraße 15, 40223 Düsseldorf-Bilk
END:VEVENT
BEGIN:VEVENT
DTSTAMP:20260424T191207
DTSTART;TZID=Europe/Berlin:20251029T180000
DTEND;TZID=Europe/Berlin:20251029T190000
UID:G814130-20251029T180000@VHSDÜSSELDORF
SUMMARY:NEU! Yoga (G814130) 
LOCATION:Stadtsportbund, Suitbertusstr. 15, Bilk, Gymnastikhalle, Suitbertusstraße 15, 40223 Düsseldorf-Bilk
END:VEVENT
BEGIN:VEVENT
DTSTAMP:20260424T191207
DTSTART;TZID=Europe/Berlin:20251105T180000
DTEND;TZID=Europe/Berlin:20251105T190000
UID:G814130-20251105T180000@VHSDÜSSELDORF
SUMMARY:NEU! Yoga (G814130) 
LOCATION:Stadtsportbund, Suitbertusstr. 15, Bilk, Gymnastikhalle, Suitbertusstraße 15, 40223 Düsseldorf-Bilk
END:VEVENT
BEGIN:VEVENT
DTSTAMP:20260424T191207
DTSTART;TZID=Europe/Berlin:20251203T180000
DTEND;TZID=Europe/Berlin:20251203T190000
UID:G814130-20251203T180000@VHSDÜSSELDORF
SUMMARY:NEU! Yoga (G814130) 
LOCATION:Stadtsportbund, Suitbertusstr. 15, Bilk, Gymnastikhalle, Suitbertusstraße 15, 40223 Düsseldorf-Bilk
END:VEVENT
BEGIN:VEVENT
DTSTAMP:20260424T191207
DTSTART;TZID=Europe/Berlin:20251210T180000
DTEND;TZID=Europe/Berlin:20251210T190000
UID:G814130-20251210T180000@VHSDÜSSELDORF
DESCRIPTION:Ersatz für Ausfall am 26.11.2025
SUMMARY:NEU! Yoga (G814130) 
LOCATION:Stadtsportbund, Suitbertusstr. 15, Bilk, Gymnastikhalle, Suitbertusstraße 15, 40223 Düsseldorf-Bilk
END:VEVENT
END:VCALENDAR